BEGIN:VCALENDAR
VERSION:2.0
PRODID:-//Center For Entrepreneurship - Urban League St. Louis - ECPv6.15.20//NONSGML v1.0//EN
CALSCALE:GREGORIAN
METHOD:PUBLISH
X-ORIGINAL-URL:https://staging.ulstlcenterforentrepreneurship.com
X-WR-CALDESC:Events for Center For Entrepreneurship - Urban League St. Louis
REFRESH-INTERVAL;VALUE=DURATION:PT1H
X-Robots-Tag:noindex
X-PUBLISHED-TTL:PT1H
BEGIN:VTIMEZONE
TZID:America/Chicago
BEGIN:DAYLIGHT
TZOFFSETFROM:-0600
TZOFFSETTO:-0500
TZNAME:CDT
DTSTART:20250309T080000
END:DAYLIGHT
BEGIN:STANDARD
TZOFFSETFROM:-0500
TZOFFSETTO:-0600
TZNAME:CST
DTSTART:20251102T070000
END:STANDARD
BEGIN:DAYLIGHT
TZOFFSETFROM:-0600
TZOFFSETTO:-0500
TZNAME:CDT
DTSTART:20260308T080000
END:DAYLIGHT
BEGIN:STANDARD
TZOFFSETFROM:-0500
TZOFFSETTO:-0600
TZNAME:CST
DTSTART:20261101T070000
END:STANDARD
BEGIN:DAYLIGHT
TZOFFSETFROM:-0600
TZOFFSETTO:-0500
TZNAME:CDT
DTSTART:20270314T080000
END:DAYLIGHT
BEGIN:STANDARD
TZOFFSETFROM:-0500
TZOFFSETTO:-0600
TZNAME:CST
DTSTART:20271107T070000
END:STANDARD
END:VTIMEZONE
BEGIN:VEVENT
DTSTART;TZID=America/Chicago:20260326T120000
DTEND;TZID=America/Chicago:20260326T130000
DTSTAMP:20260420T101209
CREATED:20260317T045300Z
LAST-MODIFIED:20260317T045836Z
UID:869-1774526400-1774530000@staging.ulstlcenterforentrepreneurship.com
SUMMARY:Finding Your Target Market
DESCRIPTION:Knowing your target market is the game changer to an effective marketing strategy! In this workshop you will learn how to use customer discovery to find your target.
URL:https://staging.ulstlcenterforentrepreneurship.com/event/finding-your-target-market/
LOCATION:Zoom
ATTACH;FMTTYPE=image/png:https://staging.ulstlcenterforentrepreneurship.com/wp-content/uploads/2026/03/find-your-target-market.png
END:VEVENT
END:VCALENDAR